BEGIN:VCALENDAR
VERSION:2.0
PRODID:-//ChamberMaster//Event Calendar 2.0//EN
METHOD:PUBLISH
X-PUBLISHED-TTL:P3D
REFRESH-INTERVAL:P3D
CALSCALE:GREGORIAN
BEGIN:VEVENT
DTSTART:20110311T010000Z
DTEND:20110311T040000Z
X-MICROSOFT-CDO-ALLDAYEVENT:FALSE
SUMMARY:Guinness Glass Giveaway - Pour your own pint!
DESCRIPTION:Pour your own pint of Guinness and KEEP the glass! Thurs March 3rd Thurs March 10th Weds march 16th Thurs March 24th
X-ALT-DESC;FMTTYPE=text/html:Pour your own pint of Guinness and KEEP the glass! Thurs March 3rd Thurs March 10th Weds march 16th Thurs March 24th\n<br>
LOCATION:Atlantic Bar & Grill
UID:e.697.783
SEQUENCE:3
DTSTAMP:20260420T191209Z
URL:http://lincolnsquareravenswood.smartcms.site/events/details/guinness-glass-giveaway-pour-your-own-pint-783
END:VEVENT

END:VCALENDAR
