BEGIN:VCALENDAR
VERSION:2.0
PRODID:-//ChamberMaster//Event Calendar 2.0//EN
METHOD:PUBLISH
X-PUBLISHED-TTL:P3D
REFRESH-INTERVAL:P3D
CALSCALE:GREGORIAN
BEGIN:VEVENT
DTSTART:20101030T150000Z
DTEND:20101030T210000Z
X-MICROSOFT-CDO-ALLDAYEVENT:FALSE
SUMMARY:Halloween Happenings
DESCRIPTION:Trick or Treat at participating Lincoln Square businesses and participate in lots of other fun\, free ghoulish activities!
X-ALT-DESC;FMTTYPE=text/html:<div><div style="text-align: center\; margin: 0in 0in 0pt 0.5in"><span style="font-family: Verdana">Trick or Treat at participating Lincoln Square businesses and participate in lots of other fun\, free ghoulish activities!</span></div></div>
LOCATION:
UID:e.697.64
SEQUENCE:3
DTSTAMP:20260421T031330Z
URL:http://lincolnsquareravenswood.smartcms.site/events/details/halloween-happenings-64
END:VEVENT

END:VCALENDAR
