BEGIN:VCALENDAR
VERSION:2.0
PRODID:-//ChamberMaster//Event Calendar 2.0//EN
METHOD:PUBLISH
X-PUBLISHED-TTL:P3D
REFRESH-INTERVAL:P3D
CALSCALE:GREGORIAN
BEGIN:VEVENT
DTSTART:20100717T160000Z
DTEND:20100717T190000Z
X-MICROSOFT-CDO-ALLDAYEVENT:FALSE
SUMMARY:Handball Germany v Poland Exhibition Game
DESCRIPTION:Join SportsClub DANK for this outstanding Grudge Match\n\nKeep the German colors high in those seats\n\n\n\n\n\nUSA Team Handball today announced international handball heavyweights Germany and Poland will battle on American soil this summer in Chicago\, IL.\n\n\n\nThe UIC Pavilion on July 17\, 2010\, will be the site of a fierce rematch of the 2007 World Championship\, which saw the men's German national team take the gold from Poland with a 29-24 victory. The match\, sponsored by USA Team Handball\, Exlibris and World Sport Chicago\, will be broadcast live in Germany and Poland thanks to a partnership with SportFive.\n\n\n\nTickets go on sale May 3. More information coming soon.
X-ALT-DESC;FMTTYPE=text/html:Join SportsClub DANK for this outstanding Grudge Match\n<br>Keep the German colors high in those seats\n<br>\n<br>\n<br>USA Team Handball today announced international handball heavyweights Germany and Poland will battle on American soil this summer in Chicago\, IL.\n<br>\n<br>The UIC Pavilion on July 17\, 2010\, will be the site of a fierce rematch of the 2007 World Championship\, which saw the men's German national team take the gold from Poland with a 29-24 victory. The match\, sponsored by USA Team Handball\, Exlibris and World Sport Chicago\, will be broadcast live in Germany and Poland thanks to a partnership with SportFive.\n<br>\n<br>Tickets go on sale May 3. More information coming soon.
LOCATION:
UID:e.697.582
SEQUENCE:3
DTSTAMP:20260421T080625Z
URL:http://lincolnsquareravenswood.smartcms.site/events/details/handball-germany-v-poland-exh-582
END:VEVENT

END:VCALENDAR
