BEGIN:VCALENDAR
VERSION:2.0
PRODID:-//ChamberMaster//Event Calendar 2.0//EN
METHOD:PUBLISH
X-PUBLISHED-TTL:P3D
REFRESH-INTERVAL:P3D
CALSCALE:GREGORIAN
BEGIN:VEVENT
DTSTART:20100314T000000Z
DTEND:20100314T020000Z
X-MICROSOFT-CDO-ALLDAYEVENT:FALSE
SUMMARY:Happy Birthday\, Dr. Seuss!
DESCRIPTION:Have you been to Meinl for the neighborhood dinner? \n\n ?If you never did\, you should. These things are fun\, and fun is good?. \n\nCome Saturday\, March 13th at 6 pm\n\nFor dinner and music at Meinl on Lincoln*\n\nOh the menu\, our chefs will prepare!\n\nWe?ll have Green Eggs and Ham\, \n\nSchlott?s Knot?s Bread\, \n\nHook Nook Dogs\, \n\nWhat else could compare? \n\nThere?ll be Cat?s Mac and Cheese\,\n\nFor Roast Beast say ?Please!?\n\nHave a Pink Yink Ink Drink with your Sneetch Treats\n\nAnd listen to the choir* sing as your heart beats! \n\nLast but not least\, you?ll have a Valley of Vung?s Chocolate Rocks\n\nIt will all taste so good\; it will knock off your socks!                                                                                 \n\nOooh\, I heard\, the Cat n the Hat might even be there!\n\nSo\, don?t you miss out\, cause that wouldn?t be fair! \n\n* Call for reservations now at 773.868.1876 opt. 5. Spaces do fill up quickly!  Adults $40\, Kids 12 and under $20 (excluding tax and tip) Meinl on Lincoln is 4363 N. Lincoln Avenue.\n\n* Special guest performance by the Lincoln Park/De Paul Neighborhood Choir of Chicago Children?s Choir. CCC is a multiracial\, multicultural choral music education organization\, shaping the future by making a difference in the lives of children and youth through musical excellence.
X-ALT-DESC;FMTTYPE=text/html:Have you been to Meinl for the neighborhood dinner? \n<br> ?If you never did\, you should. These things are fun\, and fun is good?. \n<br>Come Saturday\, March 13th at 6 pm\n<br>For dinner and music at Meinl on Lincoln*\n<br>Oh the menu\, our chefs will prepare!\n<br>We?ll have Green Eggs and Ham\, \n<br>Schlott?s Knot?s Bread\, \n<br>Hook Nook Dogs\, \n<br>What else could compare? \n<br>There?ll be Cat?s Mac and Cheese\,\n<br>For Roast Beast say ?Please!?\n<br>Have a Pink Yink Ink Drink with your Sneetch Treats\n<br>And listen to the choir* sing as your heart beats! \n<br>Last but not least\, you?ll have a Valley of Vung?s Chocolate Rocks\n<br>It will all taste so good\; it will knock off your socks!                                                                                 \n<br>Oooh\, I heard\, the Cat n the Hat might even be there!\n<br>So\, don?t you miss out\, cause that wouldn?t be fair! \n<br>* Call for reservations now at 773.868.1876 opt. 5. Spaces do fill up quickly!  Adults $40\, Kids 12 and under $20 (excluding tax and tip) Meinl on Lincoln is 4363 N. Lincoln Avenue.\n<br>* Special guest performance by the Lincoln Park/De Paul Neighborhood Choir of Chicago Children?s Choir. CCC is a multiracial\, multicultural choral music education organization\, shaping the future by making a difference in the lives of children and youth through musical excellence. \n<br>
LOCATION:Julius Meinl on Lincoln Avenue 4363 N. Lincoln Avenue Chicago\, IL 60618
UID:e.697.272
SEQUENCE:3
DTSTAMP:20260421T154445Z
URL:http://lincolnsquareravenswood.smartcms.site/events/details/happy-birthday-dr-seuss-272
END:VEVENT

END:VCALENDAR
