BEGIN:VCALENDAR
VERSION:2.0
PRODID:-//ChamberMaster//Event Calendar 2.0//EN
METHOD:PUBLISH
X-PUBLISHED-TTL:P3D
REFRESH-INTERVAL:P3D
CALSCALE:GREGORIAN
BEGIN:VEVENT
DTSTART:20101007T233000Z
DTEND:20101008T020000Z
X-MICROSOFT-CDO-ALLDAYEVENT:FALSE
SUMMARY:Homes in Haiti Benefit Concert
DESCRIPTION:Lincoln Square Presbyterian Church will be hosting a benefit concert\, featuring the Spares\, to raise funds for our Haiti Relief program to re-build homes for those impacted by the earthquakes.  .
X-ALT-DESC;FMTTYPE=text/html:Lincoln Square Presbyterian Church will be hosting a benefit concert\, featuring the Spares\, to raise funds for our Haiti Relief program to re-build homes for those impacted by the earthquakes.  .  
LOCATION:Giddings Plaza 4731 N. Lincoln Ave. Chicago\, IL 60625
UID:e.697.635
SEQUENCE:3
DTSTAMP:20260421T045827Z
URL:http://lincolnsquareravenswood.smartcms.site/events/details/homes-in-haiti-benefit-concert-635
END:VEVENT

END:VCALENDAR
