BEGIN:VCALENDAR
VERSION:2.0
PRODID:-//ChamberMaster//Event Calendar 2.0//EN
METHOD:PUBLISH
X-PUBLISHED-TTL:P3D
REFRESH-INTERVAL:P3D
CALSCALE:GREGORIAN
BEGIN:VEVENT
DTSTART:20120721T180000Z
DTEND:20120721T200000Z
X-MICROSOFT-CDO-ALLDAYEVENT:FALSE
SUMMARY:Ice Cream Social @ Matty K's
DESCRIPTION:Matty K's will be hosting an Ice Cream Social for kids and families at the store on July 21st. We will learn to make our own ice cream\, and then sample our creations topped with all your favorites.\n\n\n\nThe event will run from 1pm to 3pm.\n\n\n\nAdvance sign up is required to ensure that we have enough supplies. Sign up sheets can be found at the register at Matty K's. Space is limited. Sign up today!
X-ALT-DESC;FMTTYPE=text/html:<span style="font-family: comic sans ms"><span style="font-size: 12px">Matty K&#39\;s will be hosting an Ice Cream Social for kids and families at the store on July 21st. We will learn to make our own ice cream\, and then sample our creations topped with all your favorites.<br />\n<br />\nThe event will run from 1pm to 3pm.<br />\n<br />\nAdvance sign up is required to ensure that we have enough supplies. Sign up sheets can be found at the register at Matty K&#39\;s. Space is limited. Sign up today!</span></span>
LOCATION:Matty K's Hardware 4874 N. Lincoln Ave CHicago IL 60625
UID:e.697.3591
SEQUENCE:3
DTSTAMP:20260419T183414Z
URL:http://lincolnsquareravenswood.smartcms.site/events/details/ice-cream-social-3591
END:VEVENT

END:VCALENDAR
