BEGIN:VCALENDAR
VERSION:2.0
PRODID:-//ChamberMaster//Event Calendar 2.0//EN
METHOD:PUBLISH
X-PUBLISHED-TTL:P3D
REFRESH-INTERVAL:P3D
CALSCALE:GREGORIAN
BEGIN:VEVENT
DTSTART:20100714T000000Z
DTEND:20100714T020000Z
X-MICROSOFT-CDO-ALLDAYEVENT:FALSE
SUMMARY:Is Your House Making You Sick?
DESCRIPTION:Dr. Todd Renn\, Chiropractic Physician\, presents:\n\n\n\nIs Your House Making You Sick?\n\n\n\nRavenswood Chiropractic   you just need to know about them and learn about green alternatives.  Topics to be covered include:\n\n\n\n·         EPA/FDA Testing Initiatives and Regulation overview\n\n\n\n·         Endocrine disruptors\n\n\n\n·         Bisphenol-A\n\n\n\n·         Pesticides\n\n\n\n·         Flame Retardants on Fabrics\n\n\n\n·         Sunscreen\n\n\n\n·         Soaps\n\n\n\n·         Water\n\n\n\n·         EMF?s\n\n\n\n·         Heavy Metals\n\n\n\n·         Cleaning Products\n\n\n\n·         Insect Repellants\n\n\n\n·         Cookware\n\n\n\n·         Carpeting and Paint\n\n\n\n·         Gardening\n\n\n\nAt this workshop you?ll receive a convenient list of dangerous items that may be in your house and a list of green alternatives you can use with resources and an opportunity to ask questions.
X-ALT-DESC;FMTTYPE=text/html:Dr. Todd Renn\, Chiropractic Physician\, presents:\n<br>\n<br>Is Your House Making You Sick?\n<br>\n<br>Ravenswood Chiropractic & Wellness Center is a proud participant of Andersonville Green Week created by Eco-Andersonville.  Dr. Renn\, an expert of the affects of toxic substances in the human body\, will share with you where hidden toxic substances can be found\, assessing body burden\, and strategies that minimize exposure.  Join us for this free workshop!  Due to high demand there will be two presentations during Andersonville Green Week.\n<br>\n<br>Benefit from Dr. Todd Renn?s comprehensive research and experience\n<br>\n<br>The biggest threats lurking in most people?s homes are easy to reduce\; you just need to know about them and learn about green alternatives.  Topics to be covered include:\n<br>\n<br>·         EPA/FDA Testing Initiatives and Regulation overview\n<br>\n<br>·         Endocrine disruptors\n<br>\n<br>·         Bisphenol-A\n<br>\n<br>·         Pesticides\n<br>\n<br>·         Flame Retardants on Fabrics\n<br>\n<br>·         Sunscreen\n<br>\n<br>·         Soaps\n<br>\n<br>·         Water\n<br>\n<br>·         EMF?s\n<br>\n<br>·         Heavy Metals\n<br>\n<br>·         Cleaning Products\n<br>\n<br>·         Insect Repellants\n<br>\n<br>·         Cookware\n<br>\n<br>·         Carpeting and Paint\n<br>\n<br>·         Gardening\n<br>\n<br>At this workshop you?ll receive a convenient list of dangerous items that may be in your house and a list of green alternatives you can use with resources and an opportunity to ask questions.\n<br>\n<br>
LOCATION:5215 N Ravenswood\, Ste 105
UID:e.697.555
SEQUENCE:3
DTSTAMP:20260421T080624Z
URL:http://lincolnsquareravenswood.smartcms.site/events/details/is-your-house-making-you-sick-555
END:VEVENT

END:VCALENDAR
