BEGIN:VCALENDAR
VERSION:2.0
PRODID:-//ChamberMaster//Event Calendar 2.0//EN
METHOD:PUBLISH
X-PUBLISHED-TTL:P3D
REFRESH-INTERVAL:P3D
CALSCALE:GREGORIAN
BEGIN:VEVENT
DTSTART;VALUE=DATE:20100224
DTEND;VALUE=DATE:20100225
TRANSP:TRANSPARENT
X-MICROSOFT-CDO-ALLDAYEVENT:TRUE
SUMMARY:Jennifer Norback Gallery Event with Food from Elliot Graham
DESCRIPTION:Space is limited.\n\nOpen to the first 35 people who want to come:\n\nA SPECIAL EVENING OUT: "Food and Music in the City"\n\nA Gallery Event Hosted by Jennifer Norback\n\n\n\nGallery owner Jennifer Norback is hosting this special event. Experience the foods of "Top Chef" Elliot Graham\, known for his dynamic molecular gastronomy cuisine\, his "food as art" approach.\n\n\n\n? Browse this showing of art of Chicago\n\n? "Top Chef" Graham Elliot Bowles\, the youngest 4 star chef in Chicago\, serves scrumptious hors d?oeuvres\n\n? Top wines from Oriel accompany this event\n\n? Chris Norback fills the room with the sounds of Classical Guitar.\n\n\n\nGallery owner Jennifer Norback is donating all ticket sales to Waters School. \n\nRegister online now at http://waterstoday.org
X-ALT-DESC;FMTTYPE=text/html:Space is limited.\n<br>Open to the first 35 people who want to come:\n<br>A SPECIAL EVENING OUT: "Food and Music in the City"\n<br>A Gallery Event Hosted by Jennifer Norback\n<br>\n<br>Gallery owner Jennifer Norback is hosting this special event. Experience the foods of "Top Chef" Elliot Graham\, known for his dynamic molecular gastronomy cuisine\, his "food as art" approach.\n<br>\n<br>? Browse this showing of art of Chicago\n<br>? "Top Chef" Graham Elliot Bowles\, the youngest 4 star chef in Chicago\, serves scrumptious hors d?oeuvres\n<br>? Top wines from Oriel accompany this event\n<br>? Chris Norback fills the room with the sounds of Classical Guitar.\n<br>\n<br>Gallery owner Jennifer Norback is donating all ticket sales to Waters School. \n<br>Register online now at http://waterstoday.org
LOCATION:Jennifer Norback Gallery: 217 W. Huron Ave\, right at the Chicago Brown Line stop
UID:e.697.65
SEQUENCE:3
DTSTAMP:20260421T173311Z
URL:http://lincolnsquareravenswood.smartcms.site/events/details/jennifer-norback-gallery-event-with-food-from-elliot-graham-65
END:VEVENT

END:VCALENDAR
