BEGIN:VCALENDAR
VERSION:2.0
PRODID:-//ChamberMaster//Event Calendar 2.0//EN
METHOD:PUBLISH
X-PUBLISHED-TTL:P3D
REFRESH-INTERVAL:P3D
CALSCALE:GREGORIAN
BEGIN:VEVENT
DTSTART:20110625T180000Z
DTEND:20110625T210000Z
X-MICROSOFT-CDO-ALLDAYEVENT:FALSE
SUMMARY:JUNE FEST!! ANNUAL FUN EVENT FOR ALL!
DESCRIPTION:Annual JUNE FEST & RESIDENT ART SHOW!\n\n	\n\n	FOOD!    CLOWNS!    PETTING ZOO!        HOT DOGS!        GAMES!        MUSIC & MORE!\n\n	 \n\n	TAKES PLACE IN "HERITAGE GARDEN" (weather permitting) or auditorium inside.\n\n	\n\n	ALL FREE!     BRING YOUR FRIENDS & FAMILY!        \n\n	\n\n	SEE YOU THERE:    4950 N. ASHLAND AVE.\, CHICAGO\, IL  60640\n\n	\n\n	 \n\n	 \n\n	\n\n	 \n\n	 \n\n	FREE PARKING IN OUR LOTS ON WINNEMAC & PAULINA!!\n\n	\n\n	 \n\n	Resident ART SHOW takes place in front lobby of our beautiful reCome antness the resident paintings completed through
X-ALT-DESC;FMTTYPE=text/html:<h3 style="color: blue\; text-align: center">\n	<u><strong>Annual JUNE FEST &amp\; RESIDENT ART SHOW!</strong></u><br />\n	<br />\n	<span style="font-size: 14px"><strong><span style="background-color: #00ffff">FOOD!&nbsp\;&nbsp\;&nbsp\;&nbsp\;CLOWNS!&nbsp\;&nbsp\;&nbsp\;&nbsp\;PETTING ZOO!&nbsp\;&nbsp\;&nbsp\;&nbsp\;&nbsp\;&nbsp\;&nbsp\;&nbsp\;HOT DOGS!&nbsp\;&nbsp\;&nbsp\;&nbsp\;&nbsp\;&nbsp\;&nbsp\;&nbsp\;GAMES!&nbsp\;&nbsp\;&nbsp\;&nbsp\;&nbsp\;&nbsp\;&nbsp\;&nbsp\;MUSIC &amp\; MORE!</span></strong></span><br />\n	&nbsp\;</h3>\n<h3 style="color: blue">\n	<span style="font-size: 14px">TAKES PLACE IN &quot\;HERITAGE GARDEN&quot\; (weather permitting) or auditorium inside.<br />\n	<br />\n	ALL FREE!&nbsp\;&nbsp\;&nbsp\;&nbsp\;&nbsp\;BRING YOUR FRIENDS &amp\; FAMILY!&nbsp\;&nbsp\;&nbsp\;&nbsp\;&nbsp\;&nbsp\;&nbsp\;&nbsp\;<br />\n	<br />\n	SEE YOU THERE:&nbsp\;&nbsp\;&nbsp\;&nbsp\;<span style="color: #000000">4950 N. ASHLAND AVE.\, CHICAGO\, IL&nbsp\; 60640</span></span><br />\n	<br />\n	&nbsp\;</h3>\n<h3 style="color: blue\; text-align: center">\n	&nbsp\;</h3>\n<h3 style="color: blue">\n	<br />\n	&nbsp\;</h3>\n<h3 style="color: blue">\n	&nbsp\;</h3>\n<h3 style="color: blue">\n	<span style="font-size: 14px"><span style="color: #ffffff"><span><span style="background-color: #ffffff">FREE PARKING IN OUR LOTS ON WINNEMAC &amp\; PAULINA!!</span></span></span></span><br />\n	<br />\n	&nbsp\;</h3>\n<h3 style="color: blue\; text-align: center">\n	<span style="font-size: 14px"><span style="color: #ffffff"><span><strong><span><span style="background-color: #ffffff">Resident ART SHOW takes place in front </span></span></strong></span></span><span style="color: #ffffff"><strong><span style="background-color: #ffffff">lobby of our beautiful re</span></strong></span></span><strong><span style="color: #ffffff"><span style="background-color: #ffffff">Come antness the resident paintings completed through </span></span></strong><br />\n	&nbsp\;</h3>\n<h3 style="color: blue">\n	<br />\n	&nbsp\;</h3>
LOCATION:4950 N. ASHLAND AVE. CHICAGO\, IL 60640
UID:e.697.881
SEQUENCE:3
DTSTAMP:20260420T142225Z
URL:http://lincolnsquareravenswood.smartcms.site/events/details/june-fest-annual-fun-event-for-all-881
END:VEVENT

END:VCALENDAR
