BEGIN:VCALENDAR
VERSION:2.0
PRODID:-//ChamberMaster//Event Calendar 2.0//EN
METHOD:PUBLISH
X-PUBLISHED-TTL:P3D
REFRESH-INTERVAL:P3D
CALSCALE:GREGORIAN
BEGIN:VEVENT
DTSTART:20111119T150000Z
DTEND:20111119T190000Z
X-MICROSOFT-CDO-ALLDAYEVENT:FALSE
SUMMARY:Junior Savers Wheel of Fun at Ravenswood Community Bank
DESCRIPTION:Stop by on Saturday for Junior Savers Wheel of Fun at Ravenswood Community Bank!
X-ALT-DESC;FMTTYPE=text/html:Stop by on Saturday for Junior Savers Wheel of Fun at Ravenswood Community Bank!
LOCATION:
UID:e.697.2209
SEQUENCE:3
DTSTAMP:20260420T063659Z
URL:http://lincolnsquareravenswood.smartcms.site/events/details/junior-savers-wheel-of-fun-at-ravenswood-community-bank-2209
END:VEVENT

END:VCALENDAR
