BEGIN:VCALENDAR
VERSION:2.0
PRODID:-//ChamberMaster//Event Calendar 2.0//EN
METHOD:PUBLISH
X-PUBLISHED-TTL:P3D
REFRESH-INTERVAL:P3D
CALSCALE:GREGORIAN
BEGIN:VEVENT
DTSTART:20101002T190000Z
DTEND:20101002T210000Z
X-MICROSOFT-CDO-ALLDAYEVENT:FALSE
SUMMARY:Kaffee. Kuchen und Kino
DESCRIPTION:Event: 'Kino- Bühne Frei Für Marika'\n\nClassic German films on Saturday afternoons over coffee and pastries. Brandenburg Room\, 2nd floor. Doors at Noon\, vorfilm starts at 1pm followed by feature.\n\nEnjoy your favorite Heimat films in pure German. Boy - Girl - the Alps - a song or two\nFree admission\nKaffee und Kuchen - $6 for members\, $4 for nonmembers
X-ALT-DESC;FMTTYPE=text/html:Event: 'Kino- Bühne Frei Für Marika'\n\nClassic German films on Saturday afternoons over coffee and pastries. Brandenburg Room\, 2nd floor. Doors at Noon\, vorfilm starts at 1pm followed by feature.\n\nEnjoy your favorite Heimat films in pure German. Boy - Girl - the Alps - a song or two\nFree admission\nKaffee und Kuchen - $6 for members\, $4 for nonmembers\n
LOCATION:
UID:e.697.643
SEQUENCE:3
DTSTAMP:20260421T032740Z
URL:http://lincolnsquareravenswood.smartcms.site/events/details/kaffee-kuchen-und-kino-643
END:VEVENT

END:VCALENDAR
