BEGIN:VCALENDAR
VERSION:2.0
PRODID:-//ChamberMaster//Event Calendar 2.0//EN
METHOD:PUBLISH
X-PUBLISHED-TTL:P3D
REFRESH-INTERVAL:P3D
CALSCALE:GREGORIAN
BEGIN:VEVENT
DTSTART:20101030T190000Z
DTEND:20101030T210000Z
X-MICROSOFT-CDO-ALLDAYEVENT:FALSE
SUMMARY:Kaffee\, Kuchen und Kino
DESCRIPTION:Event: 'Kino- Wilde Wasser\n\n\n\nClassic German films on Saturday afternoons over coffee and pastries. Brandenburg Room\, 2nd floor. Doors at Noon\, vorfilm starts at 1pm followed by feature.\n\n\n\nURL: http://www.imdb.com/title/tt0056697/\n\n\n\nEnjoy your favorite Heimat films in pure German. Boy - Girl - the Alps - a song or two\n\nFree admission\n\nKaffee und Kuchen - $6 for members\, $4 for nonmembers\n\nDoors open at noon\n\nVorfilm at 1pm\n\nFeature at 2pm
X-ALT-DESC;FMTTYPE=text/html:Event: 'Kino- Wilde Wasser\n<br>\n<br>Classic German films on Saturday afternoons over coffee and pastries. Brandenburg Room\, 2nd floor. Doors at Noon\, vorfilm starts at 1pm followed by feature.\n<br>\n<br>URL: http://www.imdb.com/title/tt0056697/\n<br>\n<br>Enjoy your favorite Heimat films in pure German. Boy - Girl - the Alps - a song or two\n<br>Free admission\n<br>Kaffee und Kuchen - $6 for members\, $4 for nonmembers\n<br>Doors open at noon\n<br>Vorfilm at 1pm\n<br>Feature at 2pm
LOCATION:DANK- Haus
UID:e.697.649
SEQUENCE:3
DTSTAMP:20260421T031340Z
URL:http://lincolnsquareravenswood.smartcms.site/events/details/kaffee-kuchen-und-kino-649
END:VEVENT

END:VCALENDAR
