BEGIN:VCALENDAR
VERSION:2.0
PRODID:-//ChamberMaster//Event Calendar 2.0//EN
METHOD:PUBLISH
X-PUBLISHED-TTL:P3D
REFRESH-INTERVAL:P3D
CALSCALE:GREGORIAN
BEGIN:VEVENT
DTSTART:20100424T150000Z
DTEND:20100425T210000Z
X-MICROSOFT-CDO-ALLDAYEVENT:FALSE
SUMMARY:Kids In the Square
DESCRIPTION:Participating businesses are hosting free activities\, giving away treats and offering other specials throughout the day. Get ready for summer and enjoy a great day in Lincoln Square.
X-ALT-DESC;FMTTYPE=text/html:<div>Participating businesses are hosting free activities\, giving away treats and offering other specials throughout the day. Get ready for summer and enjoy a great day in Lincoln Square.</div>
LOCATION:
UID:e.697.3
SEQUENCE:3
DTSTAMP:20260421T141402Z
URL:http://lincolnsquareravenswood.smartcms.site/events/details/kids-in-the-square-3
END:VEVENT

END:VCALENDAR
