BEGIN:VCALENDAR
VERSION:2.0
PRODID:-//ChamberMaster//Event Calendar 2.0//EN
METHOD:PUBLISH
X-PUBLISHED-TTL:P3D
REFRESH-INTERVAL:P3D
CALSCALE:GREGORIAN
BEGIN:VEVENT
DTSTART:20110205T183000Z
DTEND:20110205T210000Z
X-MICROSOFT-CDO-ALLDAYEVENT:FALSE
SUMMARY:KINDERFASCHING - CHILDREN'S MARDI GRAS
DESCRIPTION:Come in costume\, we'll have free face painting\, a parade lead by the Prince&Princess\, balloon artists\, treats\, performances by the Paloma band and the Amazonen Dance Corps!\n\n\n\nIt's a great day to spend a snowy afternoon and let the kids have a ball!\n\n\n\nRefreshments available\, especially Krapfen - a traditional sugar donut prepared on site plus hotdogs\, chips\, pretzel\, juice.\n\n\n\nYou don't have to be German to enjoy this day of silliness!\n\n\n\nFREE parking at MB Financial Bank at Western and Gunnison.
X-ALT-DESC;FMTTYPE=text/html:Come in costume\, we'll have free face painting\, a parade lead by the Prince&amp\;Princess\, balloon artists\, treats\, performances by the Paloma band and the Amazonen Dance Corps!\n<br>\n<br>It's a great day to spend a snowy afternoon and let the kids have a ball!\n<br>\n<br>Refreshments available\, especially Krapfen - a traditional sugar donut prepared on site plus hotdogs\, chips\, pretzel\, juice.\n<br>\n<br>You don't have to be German to enjoy this day of silliness!\n<br>\n<br>FREE parking at MB Financial Bank at Western and Gunnison.
LOCATION:DANK Haus 4740 N Western Ave Chicago IL 60625
UID:e.697.718
SEQUENCE:3
DTSTAMP:20260420T204335Z
URL:http://lincolnsquareravenswood.smartcms.site/events/details/kinderfasching-children-s-mardi-gras-718
END:VEVENT

END:VCALENDAR
