BEGIN:VCALENDAR
VERSION:2.0
PRODID:-//ChamberMaster//Event Calendar 2.0//EN
METHOD:PUBLISH
X-PUBLISHED-TTL:P3D
REFRESH-INTERVAL:P3D
CALSCALE:GREGORIAN
BEGIN:VEVENT
DTSTART:20100911T160000Z
DTEND:20100911T180000Z
X-MICROSOFT-CDO-ALLDAYEVENT:FALSE
SUMMARY:Kinderschule Registration
DESCRIPTION:It's that time again. The time to register your kinder for German language classes for the fall. German IS the most widely spoken language in the EU after all.
X-ALT-DESC;FMTTYPE=text/html:It's that time again. The time to register your kinder for German language classes for the fall. German IS the most widely spoken language in the EU after all. 
LOCATION:
UID:e.697.589
SEQUENCE:3
DTSTAMP:20260421T045629Z
URL:http://lincolnsquareravenswood.smartcms.site/events/details/kinderschule-registration-589
END:VEVENT

END:VCALENDAR
