BEGIN:VCALENDAR
VERSION:2.0
PRODID:-//ChamberMaster//Event Calendar 2.0//EN
METHOD:PUBLISH
X-PUBLISHED-TTL:P3D
REFRESH-INTERVAL:P3D
CALSCALE:GREGORIAN
BEGIN:VEVENT
DTSTART:20111029T160000Z
DTEND:20111029T173000Z
X-MICROSOFT-CDO-ALLDAYEVENT:FALSE
SUMMARY:Laura Doherty's Free Halloween Show at ENJOY
DESCRIPTION:Catch award-winning children's musician Laura Doherty performing songs from her new album "Shining Like a Star" at ENJOY during the Lincoln Square Chamber of Commerce's Halloween Happenings.\n\n		\n\n		On Saturday\, October 29\, 2011 bring the kids in costumes\, collect candy from participating businesses in Lincoln Square and see two free shows by Laura Doherty at ENJOY: 11:00 am and 12:30pm.\n\n		\n\n		Email mom@urbangeneralstore.com with any questions.
X-ALT-DESC;FMTTYPE=text/html:&nbsp\;\n<td class="data">\n	<div class="description summary">\n		Catch award-winning children&#39\;s musician Laura Doherty performing songs from her new album &quot\;Shining Like a Star&quot\; at ENJOY during the Lincoln Square Chamber of Commerce&#39\;s Halloween Happenings.<br />\n		<br />\n		On Saturday\, October 29\, 2011 bring the kids in costumes\, collect candy from participating businesses in Lincoln Square and see two free shows by Laura Doherty at ENJOY: 11:00 am and 12:30pm.<br />\n		<br />\n		Email mom@urbangeneralstore.com with any questions.<span _fck_bookmark="1" style="display: none">&nbsp\;</span></div>\n</td>\n
LOCATION:ENJOY\, AN URBAN GENERAL STORE 4723 N. Lincoln Avenue
UID:e.697.2137
SEQUENCE:3
DTSTAMP:20260420T081900Z
URL:http://lincolnsquareravenswood.smartcms.site/events/details/laura-doherty-s-free-halloween-show-at-enjoy-2137
END:VEVENT

END:VCALENDAR
