BEGIN:VCALENDAR
VERSION:2.0
PRODID:-//ChamberMaster//Event Calendar 2.0//EN
METHOD:PUBLISH
X-PUBLISHED-TTL:P3D
REFRESH-INTERVAL:P3D
CALSCALE:GREGORIAN
BEGIN:VEVENT
DTSTART:20111119T170000Z
DTEND:20111119T210000Z
X-MICROSOFT-CDO-ALLDAYEVENT:FALSE
SUMMARY:LOST GERMAN CHICAGO EXHIBIT
DESCRIPTION:Exhibition celebrating the establishments no longer with the German Chicago community.\n\nSaturdays 11am - 3 pm and by appointment | FREE Admission\n\nFREE parking at MB Financial Bank at Western and Gunnison.\n\nwww.dankhaus.com
X-ALT-DESC;FMTTYPE=text/html:Exhibition celebrating the establishments no longer with the German Chicago community.\n<br>Saturdays 11am - 3 pm and by appointment | FREE Admission\n<br>FREE parking at MB Financial Bank at Western and Gunnison.\n<br>www.dankhaus.com\n<br>
LOCATION:DANK Haus German American Cultural Center 4740 N Western Ave
UID:e.697.819
SEQUENCE:3
DTSTAMP:20260420T063417Z
URL:http://lincolnsquareravenswood.smartcms.site/events/details/lost-german-chicago-exhibit-819
END:VEVENT

END:VCALENDAR
