BEGIN:VCALENDAR
VERSION:2.0
PRODID:-//ChamberMaster//Event Calendar 2.0//EN
METHOD:PUBLISH
X-PUBLISHED-TTL:P3D
REFRESH-INTERVAL:P3D
CALSCALE:GREGORIAN
BEGIN:VEVENT
DTSTART:20101119T230000Z
DTEND:20101120T050000Z
X-MICROSOFT-CDO-ALLDAYEVENT:FALSE
SUMMARY:Lincoln Square Chamber Annual Holiday Gala & Fundraiser
DESCRIPTION:Join your friends and neighbors to welcome the holiday season at this popular annual dinner and fundraiser. Great food\, friends and shopping!\n	\n		Dress up in your holiday best and come ready to fill the 'Buckets'!\n\n		\n\n		5:00pm   6:00pm   Holiday Pre-party in the Skyline Lounge presented by Bridgeview Bank\n\n		6:00pm   7:00pm   Hors d' oeuvres and cash bar on the 5th Floor\n\n		7:00pm   Dinner   Catered by LM Restaurant\n\n		8:00pm   Dancing with the Flat Cats \n\n		\n\n		Invitation\n\n		\n\n		RSVP
X-ALT-DESC;FMTTYPE=text/html:<div>\n	<div style="margin: 0in 0in 0pt 0.5in">\n		<span style="font-size: 14px">Join your friends and neighbors to welcome the holiday season at this popular annual dinner and fundraiser. Great food\, friends and shopping!</span></div>\n	<div style="margin: 0in 0in 0pt 0.5in">\n		<span style="font-size: 14px">Dress up in your holiday best and come ready to fill the &#39\;Buckets&#39\;!<br />\n		<br />\n		<span style="font-family: times new roman">5:00pm &ndash\; 6:00pm &ndash\; Holiday Pre-party in the Skyline Lounge presented by Bridgeview Bank</span><br />\n		<span style="font-family: times new roman">6:00pm &ndash\; 7:00pm &ndash\; Hors d&rsquo\; oeuvres and cash bar on the 5<sup>th </sup>Floor</span><br />\n		<span style="font-family: times new roman">7:00pm &ndash\; Dinner &ndash\; Catered by LM Restaurant</span><br />\n		<span style="font-family: times new roman">8:00pm &ndash\; Dancing with the Flat Cats</span><strong><span style="font-family: times new roman">&nbsp\;<br />\n		<br />\n		<a href="http://cloud.chambermaster.com/userfiles/UserFiles/chambers/697/File/LSCC%20Holiday%20Party%20invite%2011.19.10.pdf">Invitation</a><br />\n		<br />\n		<a href="http://cloud.chambermaster.com/userfiles/UserFiles/chambers/697/File/LSCC%20Holiday%20party%20response%20card%2011.19.10.pdf">RSVP</a></span></strong></span><br />\n		&nbsp\;</div>\n</div>\n
LOCATION:DANK-Haus\, 4740 N. Western AvenueGrand Ballroom
UID:e.697.63
SEQUENCE:3
DTSTAMP:20260421T013506Z
URL:http://lincolnsquareravenswood.smartcms.site/events/details/lscc-annual-holiday-gala-63
END:VEVENT

END:VCALENDAR
