BEGIN:VCALENDAR
VERSION:2.0
PRODID:-//ChamberMaster//Event Calendar 2.0//EN
METHOD:PUBLISH
X-PUBLISHED-TTL:P3D
REFRESH-INTERVAL:P3D
CALSCALE:GREGORIAN
BEGIN:VEVENT
DTSTART:20110119T003000Z
DTEND:20110119T023000Z
X-MICROSOFT-CDO-ALLDAYEVENT:FALSE
SUMMARY:LSCC Annual Meeting
DESCRIPTION:Join us as we celebrate our accomplishments of 2010 and our plans for 2011!\n\n	\n\n	We will also being honoring Board members who have served their term and voting on new incoming Board of DIrectors. Those being voted on are: Tracy Kellner- Provenance Food & Wine\; Ben Munro- The Grafton\; Mary Kay Phillips- MB Financial\; and Christine Moir- Old Town School of Folk Music.
X-ALT-DESC;FMTTYPE=text/html:<p>\n	Join us as we celebrate our accomplishments of 2010 and our plans for 2011!<br />\n	<br />\n	We will also being honoring Board members who&nbsp\;have served their term and voting on new incoming Board of DIrectors. Those being voted on are: Tracy Kellner- Provenance Food &amp\; Wine\; Ben Munro- The Grafton\; Mary Kay Phillips- MB Financial\; and Christine Moir- Old Town School of Folk Music.</p>\n
LOCATION:Chicago Brauhaus 4732 N Lincoln Ave Chicago IL 60625
UID:e.697.690
SEQUENCE:3
DTSTAMP:20260420T222800Z
URL:http://lincolnsquareravenswood.smartcms.site/events/details/lscc-annual-meeting-690
END:VEVENT

END:VCALENDAR
