BEGIN:VCALENDAR
VERSION:2.0
PRODID:-//ChamberMaster//Event Calendar 2.0//EN
METHOD:PUBLISH
X-PUBLISHED-TTL:P3D
REFRESH-INTERVAL:P3D
CALSCALE:GREGORIAN
BEGIN:VEVENT
DTSTART:20101020T170000Z
DTEND:20101020T180000Z
X-MICROSOFT-CDO-ALLDAYEVENT:FALSE
SUMMARY:LSCC Business Luncheon
DESCRIPTION:"I've started my business- now where is my money?"\n\n\n\nJoin LSCC and Larry Little\, owner of ACT Group\, licensed CPA as we discuss the 3 biggest issues facing small businesses.\n\n\n\nThere will also be a handout on the new tax laws.
X-ALT-DESC;FMTTYPE=text/html:&quot\;I&#39\;ve started my business- now where is my money?&quot\;<br />\n<br />\nJoin LSCC and Larry Little\, owner of ACT Group\, licensed CPA as we discuss the 3 biggest issues facing small businesses.<br />\n<br />\nThere will also be a handout on the new tax laws.<br />\n<br />\n
LOCATION:LSCC Offices 4732 N. Lincoln 2nd Floor
UID:e.697.663
SEQUENCE:3
DTSTAMP:20260421T031321Z
URL:http://lincolnsquareravenswood.smartcms.site/events/details/lscc-business-luncheon-663
END:VEVENT

END:VCALENDAR
