BEGIN:VCALENDAR
VERSION:2.0
PRODID:-//ChamberMaster//Event Calendar 2.0//EN
METHOD:PUBLISH
X-PUBLISHED-TTL:P3D
REFRESH-INTERVAL:P3D
CALSCALE:GREGORIAN
BEGIN:VEVENT
DTSTART:20111120T160000Z
DTEND:20111120T210000Z
X-MICROSOFT-CDO-ALLDAYEVENT:FALSE
SUMMARY:Luther Memorial Church of Chicago 7th Annual Holiday Market Fundraiser
DESCRIPTION:All invited for some holiday shopping and cheer!\n\n	Luther Memorial Church of Chicago 7th Annual Holiday Market Fundraiser\n\n	Lower Level of the Church\, 2500 W. Wilson Ave.\n\n	10 a.m. to 3 p.m.\, Sun.\, Nov. 20th\nGreat shopping\, delicious lunch and fabulous raffle prizes! Merchandise will feature handcrafted and fair trade items\, homemade cookies and other baked goodies. This year's market profits will benefit: Thomas J. Waters Elementary School\, Lincoln Square\; Greater Chicago Food Depository\; and the Evangelical Lutheran Church in America Malaria Campaign for Africa. Individuals interested in participating as craft vendors should complete and return the vendor registration form and deposit a.s.a.p. to reserve space while it's still available! For more information\, visit the church website (http://www.luthermemorialchicago.org/happenings.htm) or call the church office (773/539-3018).
X-ALT-DESC;FMTTYPE=text/html:<p>\n	<u><span style="font-size:16px\;"><strong>All invited for some holiday shopping and cheer!</strong></span></u></p>\n<p>\n	<strong>Luther Memorial Church of Chicago 7th Annual Holiday Market Fundraiser<br />\n	Lower Level of the Church\, 2500 W. Wilson Ave.<br />\n	10 a.m. to 3 p.m.\, Sun.\, Nov. 20th</strong></p>\nGreat shopping\, delicious lunch and fabulous raffle prizes! Merchandise will feature handcrafted and fair trade items\, homemade cookies and other baked goodies. This year&rsquo\;s market profits will benefit: Thomas J. Waters Elementary School\, Lincoln Square\; Greater Chicago Food Depository\; and the Evangelical Lutheran Church in America Malaria Campaign for Africa. Individuals interested in participating as craft vendors should complete and return the vendor registration form and deposit a.s.a.p. to reserve space while it&rsquo\;s still available! For more information\, visit the church website (http://www.luthermemorialchicago.org/happenings.htm) or call the church office (773/539-3018).<br />\n
LOCATION:2500 W Wilson Ave.: Lower Level of the Church
UID:e.697.2184
SEQUENCE:3
DTSTAMP:20260420T063658Z
URL:http://lincolnsquareravenswood.smartcms.site/events/details/luther-memorial-church-of-chicago-7th-annual-holiday-market-fundraiser-2184
END:VEVENT

END:VCALENDAR
