BEGIN:VCALENDAR
VERSION:2.0
PRODID:-//ChamberMaster//Event Calendar 2.0//EN
METHOD:PUBLISH
X-PUBLISHED-TTL:P3D
REFRESH-INTERVAL:P3D
CALSCALE:GREGORIAN
BEGIN:VEVENT
DTSTART;VALUE=DATE:20120531
DTEND;VALUE=DATE:20120604
TRANSP:TRANSPARENT
X-MICROSOFT-CDO-ALLDAYEVENT:TRUE
SUMMARY:DANK Haus at Maifest Chicago
DESCRIPTION:Chicago's best fest in its best neighborhood!\n\nDon your Dirndl\, Lace up your Lederhosen\n\nCome have some German fun in the sun\n\nEvery ticket spent at the DANK bar or kitchen supports cultural and language programs at the DANK Haus German American Cultural Center.\n\n\n\nThis year we are located at the Western Ave side of the Maifest - be sure to visit us!\n\n\n\nFunds earned at Maifest represent 15% of our operating budget and we appreciate the opportunity provided by the Maifest Committee to participate and the Lincoln Square Community for letting us hold the festival.
X-ALT-DESC;FMTTYPE=text/html:Chicago&#39\;s best fest in its best neighborhood!<br />\nDon your Dirndl\, Lace up your Lederhosen<br />\nCome have some German fun in the sun<br />\nEvery ticket spent at the DANK bar or kitchen supports cultural and language programs at the DANK Haus German American Cultural Center.<br />\n<br />\nThis year we are located at the Western Ave side of the Maifest - be sure to visit us!<br />\n<br />\nFunds earned at Maifest represent 15% of our operating budget and we appreciate the opportunity provided by the Maifest Committee to participate and the Lincoln Square Community for letting us hold the festival. 
LOCATION:
UID:e.697.2583
SEQUENCE:3
DTSTAMP:20260419T183310Z
URL:http://lincolnsquareravenswood.smartcms.site/events/details/maifest-chicago-2583
END:VEVENT

END:VCALENDAR
