BEGIN:VCALENDAR
VERSION:2.0
PRODID:-//ChamberMaster//Event Calendar 2.0//EN
METHOD:PUBLISH
X-PUBLISHED-TTL:P3D
REFRESH-INTERVAL:P3D
CALSCALE:GREGORIAN
BEGIN:VEVENT
DTSTART:20100316T233000Z
DTEND:20100317T013000Z
X-MICROSOFT-CDO-ALLDAYEVENT:FALSE
SUMMARY:March Membership Gathering
DESCRIPTION:Join us for an evening full of questions! Representatives from Somercor (SBIF) and City of Chicago's Department of Business Affairs and Consumer Protection will be on hand answering all of your questions. Find out if you can qualify for SBIF funds and how the program works. Questions about bag and sign ordinances? Come find out the answer to your city questions.SomerCor- SBIFThe Small Business Improvement Fund (SBIF) helps make improvements to small business properties in selected Chicago neighborhoods.Eligible Expenses For a SBIF Grant include\, but are not limited to:New windows\, floors or roofSign removal and replacementTuck pointingNew heating\, ventilation and air conditioningImprovements to accommodate disabled patrons or workersPurchase of adjacent property for building expansion or parkingCity of Chicago A representative from the Department of Business Affairs and Consumer Protection will be making a short presentation on new City Ordinances such as the sign ordinance and Plastic Bag Ordinance.
X-ALT-DESC;FMTTYPE=text/html:<div><p>Join us for an evening full of questions! Representatives from Somercor (SBIF) and City of Chicago&rsquo\;s Department of Business Affairs and Consumer Protection will be on hand answering all of your questions. Find out if you can qualify for SBIF funds and how the program works. Questions about bag and sign ordinances? Come find out the answer to your city questions.</p><p><strong><u>SomerCor- SBIF</u></strong></p><p>The Small Business Improvement Fund (SBIF) helps make improvements to small business properties in selected Chicago neighborhoods.</p><p>Eligible Expenses For a SBIF Grant include\, but are not limited to:</p><ul><li><strong>New windows\, floors or roof</strong></li><li><strong>Sign removal and replacement</strong></li><li><strong>Tuck pointing</strong></li><li><strong>New heating\, ventilation and air conditioning</strong></li><li><strong>Improvements to accommodate disabled patrons or workers</strong></li><li><strong>Purchase of adjacent property for building expansion or parking</strong></li></ul><div><div style="margin: 0in 0in 0pt"><strong><u>City of Chicago</u></strong></div><div style="margin: 0in 0in 0pt">&nbsp\;</div><div style="margin: 0in 0in 0pt">A representative from the Department of Business Affairs and Consumer Protection will be making a short presentation on new City Ordinances such as the sign ordinance and Plastic Bag Ordinance.</div></div></div>
LOCATION:Garcia's Mexican Restaurant4760 N. Lincoln Ave
UID:e.697.67
SEQUENCE:3
DTSTAMP:20260421T154328Z
URL:http://lincolnsquareravenswood.smartcms.site/events/details/march-membership-gathering-67
END:VEVENT

END:VCALENDAR
