BEGIN:VCALENDAR
VERSION:2.0
PRODID:-//ChamberMaster//Event Calendar 2.0//EN
METHOD:PUBLISH
X-PUBLISHED-TTL:P3D
REFRESH-INTERVAL:P3D
CALSCALE:GREGORIAN
BEGIN:VEVENT
DTSTART:20120503T000000Z
DTEND:20120507T040000Z
X-MICROSOFT-CDO-ALLDAYEVENT:FALSE
SUMMARY:May Fest at the Chicago Brauhaus
DESCRIPTION:Live music direct from Austria featuring "The Fellows."  Special May Fest menu and seasonal Maibock beer!\n\n\n	Nightly May 2nd through May 20th.  May Fest at the Chicago Brauhaus runs every night Wednesday through Saturday beginning at 7:00 pm.  Special Sunday Matinees begin at 5:00 pm.
X-ALT-DESC;FMTTYPE=text/html:Live music direct from Austria featuring &quot\;The Fellows.&quot\;&nbsp\; Special May Fest menu and seasonal Maibock beer!<br />\n<p>\n	Nightly May 2nd through May 20th.&nbsp\; May Fest at the Chicago Brauhaus runs every night Wednesday through Saturday beginning at 7:00 pm.&nbsp\; Special Sunday Matinees begin at 5:00 pm.<span _fck_bookmark="1" style="display: none">&nbsp\;</span></p>\n
LOCATION:The Chicago Brauhaus 4732 N. Lincoln Ave. Chicago\, IL 60625
UID:e.697.2565
SEQUENCE:3
DTSTAMP:20260419T201515Z
URL:http://lincolnsquareravenswood.smartcms.site/events/details/may-fest-at-the-chicago-brauhaus-2565
END:VEVENT

END:VCALENDAR
