BEGIN:VCALENDAR
VERSION:2.0
PRODID:-//ChamberMaster//Event Calendar 2.0//EN
METHOD:PUBLISH
X-PUBLISHED-TTL:P3D
REFRESH-INTERVAL:P3D
CALSCALE:GREGORIAN
BEGIN:VEVENT
DTSTART:20100518T233000Z
DTEND:20100519T013000Z
X-MICROSOFT-CDO-ALLDAYEVENT:FALSE
SUMMARY:May Membership Gathering
DESCRIPTION:Join us for a laid back evening as we kick off all the summer activities in Lincoln Square. Not sure how you can get involved this summer? Well come find out! Everything from volunteer opportunities to having a tent space at the Summer Block Party. All details will be available! Plus what could be better than a great night looking out at the skyline of Chicago with pizza and a cold one in hand!?
X-ALT-DESC;FMTTYPE=text/html:<div style="text-align: center">Join us for a laid back evening as we kick off all the summer activities in Lincoln Square. Not sure how you can get involved this summer? Well come find out! Everything from volunteer opportunities to having a tent space at the Summer Block Party. All details will be available!</div><div>&nbsp\;</div><div style="text-align: center">Plus what could be better than a great night looking out at the skyline of Chicago with pizza and a cold one in hand!?</div>
LOCATION:DANK Haus4740 N Western6th floor Lounge
UID:e.697.456
SEQUENCE:3
DTSTAMP:20260421T111347Z
URL:http://lincolnsquareravenswood.smartcms.site/events/details/may-membership-gathering-456
END:VEVENT

END:VCALENDAR
