BEGIN:VCALENDAR
VERSION:2.0
PRODID:-//ChamberMaster//Event Calendar 2.0//EN
METHOD:PUBLISH
X-PUBLISHED-TTL:P3D
REFRESH-INTERVAL:P3D
CALSCALE:GREGORIAN
BEGIN:VEVENT
DTSTART;VALUE=DATE:20100417
DTEND;VALUE=DATE:20100418
TRANSP:TRANSPARENT
X-MICROSOFT-CDO-ALLDAYEVENT:TRUE
SUMMARY:Mayor Daley's Clean & Green
DESCRIPTION:On Saturday\, April 17th\, 2010\, you and community groups in your area can make an immediate difference in your neighborhood by volunteering your time and efforts to take part in Mayor Daley's Spring Clean & Green Day. For two decades Chicagoans like yourself have teamed up with community groups and the City of Chicago to help beautify your communities by cleaning up and recycling accumulated littler & trash. All you have to do is sign up and join us at a location close to you that could really use a good cleaning. The City will work with you and your community organization to provide use on that day of all the brooms\, rakes\, shovels\, and bags needed to get the job done. To register or for more information\, call us at 3-1-1
X-ALT-DESC;FMTTYPE=text/html:<div>On Saturday\, April 17th\, 2010\, you and community groups in your area can make an immediate difference in your neighborhood by volunteering your time and efforts to take part in Mayor Daley's Spring Clean &amp\; Green Day.</div><div>&nbsp\;</div><div>For two decades Chicagoans like yourself have teamed up with community groups and the City of Chicago to help beautify your communities by cleaning up and recycling accumulated littler &amp\; trash. All you have to do is sign up and join us at a location close to you that could really use a good cleaning. The City will work with you and your community organization to provide use on that day of all the brooms\, rakes\, shovels\, and bags needed to get the job done.</div><div>&nbsp\;</div><div>To register or for more information\, call us at 3-1-1</div>
LOCATION:
UID:e.697.302
SEQUENCE:3
DTSTAMP:20260421T141258Z
URL:http://lincolnsquareravenswood.smartcms.site/events/details/mayor-daley-s-clean-green-302
END:VEVENT

END:VCALENDAR
