BEGIN:VCALENDAR
VERSION:2.0
PRODID:-//ChamberMaster//Event Calendar 2.0//EN
METHOD:PUBLISH
X-PUBLISHED-TTL:P3D
REFRESH-INTERVAL:P3D
CALSCALE:GREGORIAN
BEGIN:VEVENT
DTSTART:20111020T220000Z
DTEND:20111021T000000Z
X-MICROSOFT-CDO-ALLDAYEVENT:FALSE
SUMMARY:McPherson Preschool Open House (Tuition-based 2012-2013)
DESCRIPTION:You've heard the buzz about McPherson  now come and see all the great things that are happening at your neighborhood school! McPherson Elementary School will add Tuition-Based Preschool to its highly regarded preschool program for the 2012-2013 school year. A special open house\, hosted by veteran teacher and student/parent favorite Dawn McCarthy\, will provide an opportunity to preview the new TBPK classroom and ask questions of the teacher. Space in the program is limited\, so an early visit and application can help guarantee a spot.
X-ALT-DESC;FMTTYPE=text/html:You&rsquo\;ve heard the buzz about McPherson&mdash\; now come and see all the great things that are happening at your neighborhood school! McPherson Elementary School will add Tuition-Based Preschool to its highly regarded preschool program for the 2012-2013 school year. A special open house\, hosted by veteran teacher and student/parent favorite Dawn McCarthy\, will provide an opportunity to preview the new TBPK classroom and ask questions of the teacher. Space in the program is limited\, so an early visit and application can help guarantee a spot.<br />\n<br />\n
LOCATION:McPherson Elementary School 4728 N. Wolcott (enter on Wolcott at the main door)
UID:e.697.2164
SEQUENCE:3
DTSTAMP:20260420T081523Z
URL:http://lincolnsquareravenswood.smartcms.site/events/details/mcpherson-preschool-open-house-tuition-based-2012-2013-2164
END:VEVENT

END:VCALENDAR
