BEGIN:VCALENDAR
VERSION:2.0
PRODID:-//ChamberMaster//Event Calendar 2.0//EN
METHOD:PUBLISH
X-PUBLISHED-TTL:P3D
REFRESH-INTERVAL:P3D
CALSCALE:GREGORIAN
BEGIN:VEVENT
DTSTART:20100622T160000Z
DTEND:20100622T190000Z
X-MICROSOFT-CDO-ALLDAYEVENT:FALSE
SUMMARY:Meet n Greet Gary Powers Jr - Descendant of U-2 Spy Incident Pilot
DESCRIPTION:Gary Powers Jr\, son of Francis G Powers will be available at DANK Haus Scharpenberg Gallery to give a briefing on efforts to build a Cold War Museum in DC\, and how to best preserve Cold War history & honor veterans
X-ALT-DESC;FMTTYPE=text/html:Gary Powers Jr\, son of Francis G Powers will be available at DANK Haus Scharpenberg Gallery to give a briefing on efforts to build a Cold War Museum in DC\, and how to best preserve Cold War history & honor veterans
LOCATION:4740 N Western Ave\, Scharpenberg Gallery
UID:e.697.557
SEQUENCE:3
DTSTAMP:20260421T093411Z
URL:http://lincolnsquareravenswood.smartcms.site/events/details/meet-n-greet-gary-powers-jr-descendant-of-u-2-spy-incident-pilot-557
END:VEVENT

END:VCALENDAR
