BEGIN:VCALENDAR
VERSION:2.0
PRODID:-//ChamberMaster//Event Calendar 2.0//EN
METHOD:PUBLISH
X-PUBLISHED-TTL:P3D
REFRESH-INTERVAL:P3D
CALSCALE:GREGORIAN
BEGIN:VEVENT
DTSTART:20100217T003000Z
DTEND:20100217T023000Z
X-MICROSOFT-CDO-ALLDAYEVENT:FALSE
SUMMARY:February Membership Gathering
DESCRIPTION:Membership Gathering Come join us for an evening of speed networking. Meet new members and build a foundation for new business relationships. Limited to 40 - sign up early!  *If you are still wondering about LSCC membership and the new tiers and how they can benefit your businees please stop by Ricochet's during the speed networking and meet with the Membership Director Mindi McCreless.
X-ALT-DESC;FMTTYPE=text/html:<div style="text-align: center">Membership Gathering</div><div style="text-align: center">&nbsp\;</div><div style="text-align: center">Come join us for an evening of speed networking.</div><div style="text-align: center">&nbsp\;</div><div style="text-align: center">Meet new members and build a foundation for new business relationships.</div><div style="text-align: center">&nbsp\;</div><div style="text-align: center">Limited to 40&nbsp\;- sign up early!</div><div style="text-align: center">&nbsp\;</div><div style="text-align: center">&nbsp\;</div><div style="text-align: center">*If you are still wondering about LSCC membership and the new tiers and how they can benefit your businees please stop by Ricochet&rsquo\;s during the speed networking and meet with&nbsp\;the Membership Director Mindi McCreless. &nbsp\;</div>
LOCATION:Ricochet's4644 N. LincolnChicago\, IL 60625
UID:e.697.57
SEQUENCE:3
DTSTAMP:20260421T173053Z
URL:http://lincolnsquareravenswood.smartcms.site/events/details/membership-gathering-57
END:VEVENT

END:VCALENDAR
