BEGIN:VCALENDAR
VERSION:2.0
PRODID:-//ChamberMaster//Event Calendar 2.0//EN
METHOD:PUBLISH
X-PUBLISHED-TTL:P3D
REFRESH-INTERVAL:P3D
CALSCALE:GREGORIAN
BEGIN:VEVENT
DTSTART:20110218T003000Z
DTEND:20110218T003000Z
X-MICROSOFT-CDO-ALLDAYEVENT:FALSE
SUMMARY:Membership Gathering
DESCRIPTION:Please join us for an evening of networking with the Lincoln Square businesses.\n\n	\n\n	LSCC will also be honoring Alderman Schulter for his years of service to the 47th Ward.
X-ALT-DESC;FMTTYPE=text/html:<p>\n	Please join us for an evening of networking with the Lincoln Square businesses.<br />\n	<br />\n	LSCC will also be honoring Alderman Schulter for his years of service to the 47th Ward.</p>\n
LOCATION:Pizza DOC
UID:e.697.713
SEQUENCE:3
DTSTAMP:20260420T204314Z
URL:http://lincolnsquareravenswood.smartcms.site/events/details/membership-gathering-713
END:VEVENT

END:VCALENDAR
