BEGIN:VCALENDAR
VERSION:2.0
PRODID:-//ChamberMaster//Event Calendar 2.0//EN
METHOD:PUBLISH
X-PUBLISHED-TTL:P3D
REFRESH-INTERVAL:P3D
CALSCALE:GREGORIAN
BEGIN:VEVENT
DTSTART:20110419T233000Z
DTEND:20110420T013000Z
X-MICROSOFT-CDO-ALLDAYEVENT:FALSE
SUMMARY:Membership Gathering - April 2011
DESCRIPTION:Join us for our monthly membership gathering at the Niedersachsen Club.\n\n\n\nBurgers and Brats provided by Chef Martin!\n\n\n\nCash bar.
X-ALT-DESC;FMTTYPE=text/html:Join us for our monthly membership gathering at the Niedersachsen Club.<br />\n<br />\nBurgers and Brats provided by Chef Martin!<br />\n<br />\nCash bar. 
LOCATION:4548 N Lincoln Ave.
UID:e.697.848
SEQUENCE:3
DTSTAMP:20260420T173427Z
URL:http://lincolnsquareravenswood.smartcms.site/events/details/membership-gathering-848
END:VEVENT

END:VCALENDAR
