BEGIN:VCALENDAR
VERSION:2.0
PRODID:-//ChamberMaster//Event Calendar 2.0//EN
METHOD:PUBLISH
X-PUBLISHED-TTL:P3D
REFRESH-INTERVAL:P3D
CALSCALE:GREGORIAN
BEGIN:VEVENT
DTSTART;VALUE=DATE:20101111
DTEND;VALUE=DATE:20101112
TRANSP:TRANSPARENT
X-MICROSOFT-CDO-ALLDAYEVENT:TRUE
SUMMARY:Merz Apothecary Day in Chicago
DESCRIPTION:In celebration of Mayor Daley declaring today Merz Apothecary Day and it being our 135th Anniversary\, we are taking 13.5% off everyone's purchase of $135 or more!
X-ALT-DESC;FMTTYPE=text/html:In celebration of Mayor Daley declaring today Merz Apothecary Day and it being our 135th Anniversary\, we are taking 13.5% off everyone's purchase of $135 or more!
LOCATION:Stop in at either of our Merz Apothecary locations. Merz Apothecary 4716 N. Lincoln Ave. Chicago\, IL 60625 Merz Downtown 17 E. Monroe St. Chicago\, IL 60603
UID:e.697.675
SEQUENCE:3
DTSTAMP:20260421T013642Z
URL:http://lincolnsquareravenswood.smartcms.site/events/details/merz-apothecary-day-in-chicago-675
END:VEVENT

END:VCALENDAR
