BEGIN:VCALENDAR
VERSION:2.0
PRODID:-//ChamberMaster//Event Calendar 2.0//EN
METHOD:PUBLISH
X-PUBLISHED-TTL:P3D
REFRESH-INTERVAL:P3D
CALSCALE:GREGORIAN
BEGIN:VEVENT
DTSTART:20110619T180000Z
DTEND:20110619T200000Z
X-MICROSOFT-CDO-ALLDAYEVENT:FALSE
SUMMARY:Metro Edition of the Chicago Area Ataxia Support Group
DESCRIPTION:Join Us!\n\n\n\nSunday: June 19th 2011\n\n\n\n1PM to 3PM-ish\n\n\n\nFor the Metro Edition of the Chicago Area Ataxia Support Group (CAASG)\n\nhosted at Ravenswood Chiropractic & Wellness Center\n\n\n\nMy name is Topher Marsh. I am the leader of the Metro Edition of the Chicago Area Ataxia Support Group or CAASG. Ataxia is a very rare and quite debilitating neurological disease and movement disorder. My main intention forming this group is to get Ataxians out the house and into the public eye\, and create a comfortable atmosphere to establish lifelong friendships and camaraderie.\n\n\n\nLook at the support group section of www.ataxia.org for the suburban group facts.\n\n\n\nIf there are any questions you may have for me\, my email address is cmarsh34@ameritech.net
X-ALT-DESC;FMTTYPE=text/html:<strong><span style="font-size: 12px">Join Us!<br />\n<br />\nSunday: June 19th 2011<br />\n<br />\n1PM to 3PM-ish<br />\n<br />\nFor the Metro Edition of the Chicago Area Ataxia Support Group (CAASG)</span><br />\n<em><span style="font-size: 10px">hosted at Ravenswood Chiropractic &amp\; Wellness Center</span></em></strong><br />\n<br />\nMy name is Topher Marsh. I am the leader of the Metro Edition of the Chicago Area Ataxia Support Group or CAASG. Ataxia is a very rare and quite debilitating neurological disease and movement disorder. My main intention forming this group is to get Ataxians out the house and into the public eye\, and create a comfortable atmosphere to establish lifelong friendships and camaraderie.<br />\n<br />\nLook at the support group section of www.ataxia.org for the suburban group facts.<br />\n<br />\nIf there are any questions you may have for me\, my email address is cmarsh34@ameritech.net<br />\n
LOCATION:Ravenswood Chiropractic & Wellness Center 5215 North Ravenswood\, Suite 105 Chicago\, IL 60640
UID:e.697.1043
SEQUENCE:3
DTSTAMP:20260420T142236Z
URL:http://lincolnsquareravenswood.smartcms.site/events/details/metro-edition-of-the-chicago-area-ataxia-support-group-1043
END:VEVENT

END:VCALENDAR
