BEGIN:VCALENDAR
VERSION:2.0
PRODID:-//ChamberMaster//Event Calendar 2.0//EN
METHOD:PUBLISH
X-PUBLISHED-TTL:P3D
REFRESH-INTERVAL:P3D
CALSCALE:GREGORIAN
BEGIN:VEVENT
DTSTART:20110821T180000Z
DTEND:20110821T200000Z
X-MICROSOFT-CDO-ALLDAYEVENT:FALSE
SUMMARY:Metro Edition of the Chicago Area Ataxia Support Group
DESCRIPTION:Ataxia is a very rare and quite debilitating neurological disease and movement disorder. Our main intention forming this group is to get Ataxians out the house and into the public eye\, and create a comfortable atmosphere to establish lifelong friendships and camaraderie.\n\n\n\nLook at the support group section of www.ataxia.org for the suburban group facts.\n\n\n\nIf there are any questions for the group\, please email Topher Marsh at cmarsh34@ameritech.net.
X-ALT-DESC;FMTTYPE=text/html:Ataxia is a very rare and quite debilitating neurological disease and movement disorder. Our main intention forming this group is to get Ataxians out the house and into the public eye\, and create a comfortable atmosphere to establish lifelong friendships and camaraderie.<br />\n<br />\nLook at the support group section of www.ataxia.org for the suburban group facts.<br />\n<br />\nIf there are any questions for the group\, please email Topher Marsh at cmarsh34@ameritech.net. 
LOCATION:Ravenswood Chiropractic & Wellness Center - 5215 N Ravenswood\, 105\, Chicago\, IL 60640
UID:e.697.1312
SEQUENCE:3
DTSTAMP:20260420T111629Z
URL:http://lincolnsquareravenswood.smartcms.site/events/details/metro-edition-of-the-chicago-area-ataxia-support-group-1312
END:VEVENT

END:VCALENDAR
