BEGIN:VCALENDAR
VERSION:2.0
PRODID:-//ChamberMaster//Event Calendar 2.0//EN
METHOD:PUBLISH
X-PUBLISHED-TTL:P3D
REFRESH-INTERVAL:P3D
CALSCALE:GREGORIAN
BEGIN:VEVENT
DTSTART:20110122T200000Z
DTEND:20110122T213000Z
X-MICROSOFT-CDO-ALLDAYEVENT:FALSE
SUMMARY:Midwives and Doulas: Support and Care During Labor and Delivery
DESCRIPTION:Midwives and Doulas: Support and Care During Labor and Delivery\n\n\n\nWho will support and care for you during your labor and the birth of your child?\n\n\n\nWhat is the difference between a midwife and a doula?  Do I need both?\n\n\n\nIs doula support needed if I am delivering with an OB?\n\n\n\nAre childbirth education classes really necessary?\n\n\n\n \n\n\n\nJoin us on January 22nd at 2:00 pm at Ravenswood Chiropractic & Wellness Center.  We will be discussing these important issues and answering questions that you have.  Deciding who your health care provider will be is one of the most important decisions you will make.  Come and get a list of questions that will assist you in selecting the provider best suited to your needs and wishes.  Learn what a midwife does and discover how her care might differ in some respects from an obstetrician.  Find out about the role of a doula and how her support can influence your labor and birth.  Finally\, hear about different childbirth education classes and why they offer important preparation for labor and delivery.  Expand your knowledge of the many choices around childbirth so that you will be making the right choices for yourself and your family.\n\n\n\nPresenters:\n\n\n\nSherri Ruerup\, MS\, CNM\, RDMS ? Director of the Midwives at Swedish Covenant Hospital\n\n\n\nSue Gottschall ? CD/PCD(DONA)\, CLC\, M.Ed - Coordinator of Chicago Volunteer Doulas
X-ALT-DESC;FMTTYPE=text/html:Midwives and Doulas: Support and Care During Labor and Delivery\n<br>\n<br>Who will support and care for you during your labor and the birth of your child?\n<br>\n<br>What is the difference between a midwife and a doula?  Do I need both?\n<br>\n<br>Is doula support needed if I am delivering with an OB?\n<br>\n<br>Are childbirth education classes really necessary?\n<br>\n<br> \n<br>\n<br>Join us on January 22nd at 2:00 pm at Ravenswood Chiropractic &amp\; Wellness Center.  We will be discussing these important issues and answering questions that you have.  Deciding who your health care provider will be is one of the most important decisions you will make.  Come and get a list of questions that will assist you in selecting the provider best suited to your needs and wishes.  Learn what a midwife does and discover how her care might differ in some respects from an obstetrician.  Find out about the role of a doula and how her support can influence your labor and birth.  Finally\, hear about different childbirth education classes and why they offer important preparation for labor and delivery.  Expand your knowledge of the many choices around childbirth so that you will be making the right choices for yourself and your family.\n<br>\n<br>Presenters:\n<br>\n<br>Sherri Ruerup\, MS\, CNM\, RDMS ? Director of the Midwives at Swedish Covenant Hospital\n<br>\n<br>Sue Gottschall ? CD/PCD(DONA)\, CLC\, M.Ed - Coordinator of Chicago Volunteer Doulas\n<br>\n<br>
LOCATION:Ravenswood Chiropractic & Wellness Center 5215 North Ravenswood\, Suite 105 Chicago\, IL 60640
UID:e.697.693
SEQUENCE:3
DTSTAMP:20260420T222912Z
URL:http://lincolnsquareravenswood.smartcms.site/events/details/midwives-and-doulas-support-and-care-during-labor-and-delivery-693
END:VEVENT

END:VCALENDAR
