BEGIN:VCALENDAR
VERSION:2.0
PRODID:-//ChamberMaster//Event Calendar 2.0//EN
METHOD:PUBLISH
X-PUBLISHED-TTL:P3D
REFRESH-INTERVAL:P3D
CALSCALE:GREGORIAN
BEGIN:VEVENT
DTSTART:20101019T233000Z
DTEND:20101019T233000Z
X-MICROSOFT-CDO-ALLDAYEVENT:FALSE
SUMMARY:Monthly Membership Gathering
DESCRIPTION:Join us for an evening in Giddings Plaza for our annual BBQ! Rockwell's Neighborhood Grill will be cooking up burgers (veggie burgers are available- please indicate that on your RSVP!)  Dessert will graciously be provided by one our our newest addition to the Chamber and neighborhood- Paciugo Gelato! Have an opportunity to learn more about our neighbors and member Gateway to Learning as well. We look forward to networking with you! Please register online so that we have enough food!
X-ALT-DESC;FMTTYPE=text/html:<div>Join us for an evening in Giddings Plaza for our annual BBQ! Rockwell&rsquo\;s Neighborhood Grill will be cooking up&nbsp\;burgers (veggie burgers are available- please indicate that on your RSVP!)&nbsp\;&nbsp\;</div><div>Dessert will graciously be provided by one our our newest addition to the Chamber and neighborhood- Paciugo Gelato! Have an opportunity to learn more about our neighbors and member Gateway to Learning as well.</div><div>&nbsp\;</div><div>We look forward to networking with you!</div><div>&nbsp\;</div><div>Please register online so that we have enough food!</div>
LOCATION:Giddings Plaza
UID:e.697.609
SEQUENCE:3
DTSTAMP:20260421T031341Z
URL:http://lincolnsquareravenswood.smartcms.site/events/details/monthly-membership-gathering-10-19-2010-609
END:VEVENT

END:VCALENDAR
