BEGIN:VCALENDAR
VERSION:2.0
PRODID:-//ChamberMaster//Event Calendar 2.0//EN
METHOD:PUBLISH
X-PUBLISHED-TTL:P3D
REFRESH-INTERVAL:P3D
CALSCALE:GREGORIAN
BEGIN:VEVENT
DTSTART:20100318T153000Z
DTEND:20100318T163000Z
X-MICROSOFT-CDO-ALLDAYEVENT:FALSE
SUMMARY:Music with Miss Aimee Leigh
DESCRIPTION:DON'T MISS OUT ON ALL THE FUN EVERY THURSDAY AT BELLYBUM! Come sing\, dance and play with Miss Aimee Leigh! She has been playing stringed instruments since the age of five. Her first music gig was a Suzuki violin recital in 1977 for which she was paid in Sweet Tarts (just goes to show\, it's never too early). Since then\, she has been teaching other kids the joy and wonders of music in parent & baby classes all over Chicago. Bellybum is thrilled to have her! Join us every other Thursday for this wonderful class for kids of all ages.
X-ALT-DESC;FMTTYPE=text/html:DON'T MISS OUT ON ALL THE FUN EVERY THURSDAY AT BELLYBUM! Come sing\, dance and play with Miss Aimee Leigh! She has been playing stringed instruments since the age of five. Her first music gig was a Suzuki violin recital in 1977 for which she was paid in Sweet Tarts (just goes to show\, it's never too early). Since then\, she has been teaching other kids the joy and wonders of music in parent &amp\; baby classes all over Chicago. Bellybum is thrilled to have her! Join us every other Thursday for this wonderful class for kids of all ages.
LOCATION:Bellybum Boutique
UID:e.697.295
SEQUENCE:3
DTSTAMP:20260421T154445Z
URL:http://lincolnsquareravenswood.smartcms.site/events/details/music-with-miss-aimee-leigh-295
END:VEVENT

END:VCALENDAR
