BEGIN:VCALENDAR
VERSION:2.0
PRODID:-//ChamberMaster//Event Calendar 2.0//EN
METHOD:PUBLISH
X-PUBLISHED-TTL:P3D
REFRESH-INTERVAL:P3D
CALSCALE:GREGORIAN
BEGIN:VEVENT
DTSTART:20111210T210000Z
DTEND:20111211T040000Z
X-MICROSOFT-CDO-ALLDAYEVENT:FALSE
SUMMARY:Musical Chairs Holiday Open House
DESCRIPTION:Join us for our 3rd annual Holiday Open House.  Meet instructors\, Learn about our Programs\,  Hear performances or even Perform yourself!  All are welcome.  Bring an appetizer or dish to share.  Italian Beef and Pizza will be served. \n\nMusical Chairs is an independent Music School serving the Lincoln Square community ages 3 - 93.
X-ALT-DESC;FMTTYPE=text/html:Join us for our 3rd annual Holiday Open House. &nbsp\;<strong>Meet</strong> instructors\, <strong>Learn</strong> about our Programs\, &nbsp\;<strong>Hear</strong> performances or even <strong>Perform</strong> yourself! &nbsp\;All are welcome. &nbsp\;Bring an appetizer or dish to share. &nbsp\;Italian Beef and Pizza will be served.&nbsp\;<br />\nMusical Chairs is an independent Music School serving the Lincoln Square community ages 3 - 93.
LOCATION:2132 W Lawrence Avenue
UID:e.697.2438
SEQUENCE:3
DTSTAMP:20260420T045249Z
URL:http://lincolnsquareravenswood.smartcms.site/events/details/musical-chairs-holiday-open-house-2438
END:VEVENT

END:VCALENDAR
