BEGIN:VCALENDAR
VERSION:2.0
PRODID:-//ChamberMaster//Event Calendar 2.0//EN
METHOD:PUBLISH
X-PUBLISHED-TTL:P3D
REFRESH-INTERVAL:P3D
CALSCALE:GREGORIAN
BEGIN:VEVENT
DTSTART:20101205T010000Z
DTEND:20101205T040000Z
X-MICROSOFT-CDO-ALLDAYEVENT:FALSE
SUMMARY:NBGC Christmas Party
DESCRIPTION:NBGC Christmas Party\n\nO?Donovan?s\n\nSaturday\, December 4th from 7pm-10pm\n\n$40 per person\n\nIncludes 3 hrs. of beer\, wine & softdrinks\n\nAppetizers & Snacks\n\nEveryone is welcome!\n\nAdvance Reservations are recommended by calling Mary Jeske (773) 463-4161x10\n\nSpace is limited to 100 people
X-ALT-DESC;FMTTYPE=text/html:NBGC Christmas Party\n<br>O?Donovan?s\n<br>Saturday\, December 4th from 7pm-10pm\n<br>$40 per person\n<br>Includes 3 hrs. of beer\, wine &amp\; softdrinks\n<br>Appetizers &amp\; Snacks\n<br>Everyone is welcome!\n<br>Advance Reservations are recommended by calling Mary Jeske (773) 463-4161x10\n<br>Space is limited to 100 people\n<br>
LOCATION:O'Donovans\, 2100 W. Irving Park Road\, Chicago
UID:e.697.683
SEQUENCE:3
DTSTAMP:20260421T000927Z
URL:http://lincolnsquareravenswood.smartcms.site/events/details/nbgc-christmas-party-683
END:VEVENT

END:VCALENDAR
