BEGIN:VCALENDAR
VERSION:2.0
PRODID:-//ChamberMaster//Event Calendar 2.0//EN
METHOD:PUBLISH
X-PUBLISHED-TTL:P3D
REFRESH-INTERVAL:P3D
CALSCALE:GREGORIAN
BEGIN:VEVENT
DTSTART;VALUE=DATE:20101116
DTEND;VALUE=DATE:20101204
TRANSP:TRANSPARENT
X-MICROSOFT-CDO-ALLDAYEVENT:TRUE
SUMMARY:NBGC Holiday Ham Sale
DESCRIPTION:NBGC Holiday Ham Sale\n\nPlace Orders NOW through December 3rd\n\nPick Up & Payment December 15th 1 pm-6 pm\n\nHams are available in 2 Different Sizes: Small(6-9 lbs) or Large (14-18lbs)\n\nPrice is $3.50 per pound  &#8729\; Spice Kits $2\n\nAll proceeds benefit NBGC Programs.  Call Mary Jeske (773) 463-4161x10 or mary@nbgc.org to place your order or place your order online www.nbgc.org
X-ALT-DESC;FMTTYPE=text/html:NBGC Holiday Ham Sale\n<br>Place Orders NOW through December 3rd\n<br>Pick Up &amp\; Payment December 15th 1 pm-6 pm\n<br>Hams are available in 2 Different Sizes: Small(6-9 lbs) or Large (14-18lbs)\n<br>Price is $3.50 per pound  &amp\;#8729\; Spice Kits $2\n<br>All proceeds benefit NBGC Programs.  Call Mary Jeske (773) 463-4161x10 or mary@nbgc.org to place your order or place your order online www.nbgc.org\n<br>
LOCATION:Neighborhood Boys & Girls Club 2501 W. Irving Park Road Chicago\, IL 60618
UID:e.697.682
SEQUENCE:3
DTSTAMP:20260421T001132Z
URL:http://lincolnsquareravenswood.smartcms.site/events/details/nbgc-holiday-ham-sale-682
END:VEVENT

END:VCALENDAR
