BEGIN:VCALENDAR
VERSION:2.0
PRODID:-//ChamberMaster//Event Calendar 2.0//EN
METHOD:PUBLISH
X-PUBLISHED-TTL:P3D
REFRESH-INTERVAL:P3D
CALSCALE:GREGORIAN
BEGIN:VEVENT
DTSTART:20101204T140000Z
DTEND:20101204T220000Z
X-MICROSOFT-CDO-ALLDAYEVENT:FALSE
SUMMARY:Neighborhood Boys & Girls Club Parents Club Christmas Tree Sale
DESCRIPTION:Neighborhood Boys & Girls Club Parents Club Christmas Tree Sale\n\nSaturday\, December 4th  8am-4pm\n\nFrasier Firs\, Wreaths & Roping\n\nIn the NBGC Parking Lot ? All proceeds benefit NBGC Programs
X-ALT-DESC;FMTTYPE=text/html:Neighborhood Boys &amp\; Girls Club Parents Club Christmas Tree Sale\n<br>Saturday\, December 4th  8am-4pm\n<br>Frasier Firs\, Wreaths &amp\; Roping\n<br>In the NBGC Parking Lot ? All proceeds benefit NBGC Programs\n<br>
LOCATION:2501 W. Irving Park Road
UID:e.697.681
SEQUENCE:3
DTSTAMP:20260421T001425Z
URL:http://lincolnsquareravenswood.smartcms.site/events/details/neighborhood-boys-girls-club-parents-club-christmas-tree-sale-681
END:VEVENT

END:VCALENDAR
