BEGIN:VCALENDAR
VERSION:2.0
PRODID:-//ChamberMaster//Event Calendar 2.0//EN
METHOD:PUBLISH
X-PUBLISHED-TTL:P3D
REFRESH-INTERVAL:P3D
CALSCALE:GREGORIAN
BEGIN:VEVENT
DTSTART:20111112T160000Z
DTEND:20111112T190000Z
X-MICROSOFT-CDO-ALLDAYEVENT:FALSE
SUMMARY:Neighborhood Toy Store Day at Timeless Toys
DESCRIPTION:Join us on Saturday\, November 12th as we celebrate Neighborhood Toy Store Day! The festivities will take place in the back room at Timeless Toys between 10am and 1pm. We'll have face painting\, art projects\, game demos\, and prize giveaways. Plus\, we'll announce ASTRA's Best Toys for Kids 2011! Hope to see you there!
X-ALT-DESC;FMTTYPE=text/html:<span style="color: rgb(0\, 0\, 255)\;">Join us on Saturday\, November 12th as we celebrate Neighborhood Toy Store Day!</span><span style="color: rgb(255\, 0\, 0)\;"> The festivities will take place in the back room at Timeless Toys between 10am and 1pm. We&#39\;ll have face painting\, art projects\, game demos\, and prize giveaways. Plus\, we&#39\;ll announce ASTRA&#39\;s Best Toys for Kids 2011! </span><span style="color: rgb(0\, 128\, 0)\;">Hope to see you there!</span><br />\n
LOCATION:Timeless Toys\, Ltd. 4749 N Lincoln Avenue
UID:e.697.2205
SEQUENCE:3
DTSTAMP:20260420T063701Z
URL:http://lincolnsquareravenswood.smartcms.site/events/details/neighborhood-toy-store-day-at-timeless-toys-2205
END:VEVENT

END:VCALENDAR
