BEGIN:VCALENDAR
VERSION:2.0
PRODID:-//ChamberMaster//Event Calendar 2.0//EN
METHOD:PUBLISH
X-PUBLISHED-TTL:P3D
REFRESH-INTERVAL:P3D
CALSCALE:GREGORIAN
BEGIN:VEVENT
DTSTART:20120101T150000Z
DTEND:20120101T210000Z
X-MICROSOFT-CDO-ALLDAYEVENT:FALSE
SUMMARY:New Years Day Brunch
DESCRIPTION:The Cure for the common hangover!\n\n	Join us on New Years Day for our delicious hangover cure brunch that's sure to hit the spot. \n\n	BYOB and we'll provide the rest for bloody mary's\, mimosas and screwdrivers.\n\n	Wear your PJ's and get FREE donuts!
X-ALT-DESC;FMTTYPE=text/html:<p style="text-align: center\; ">\n	The Cure for the common hangover!<br />\n	Join us on New Years Day for our delicious hangover cure brunch that&#39\;s sure to hit the spot.&nbsp\;<br />\n	BYOB and we&#39\;ll provide the rest for bloody mary&#39\;s\, mimosas and screwdrivers.<br />\n	Wear your PJ&#39\;s and get FREE donuts!&nbsp\;</p>\n
LOCATION:Angel Food Bakery 1636 West Montrose Ave. Chicago\, IL\, 60613
UID:e.697.2444
SEQUENCE:3
DTSTAMP:20260420T031930Z
URL:http://lincolnsquareravenswood.smartcms.site/events/details/new-years-day-brunch-2444
END:VEVENT

END:VCALENDAR
