BEGIN:VCALENDAR
VERSION:2.0
PRODID:-//ChamberMaster//Event Calendar 2.0//EN
METHOD:PUBLISH
X-PUBLISHED-TTL:P3D
REFRESH-INTERVAL:P3D
CALSCALE:GREGORIAN
BEGIN:VEVENT
DTSTART:20100623T000000Z
DTEND:20100623T013000Z
X-MICROSOFT-CDO-ALLDAYEVENT:FALSE
SUMMARY:Nutrition for the Female Athlete
DESCRIPTION:Nutrition for the Female Athlete \n\nRavenswood Chiropractic & Wellness Center presents Dr. Todd Renn\, a Science-Based Nutrition expert who has been sharing the latest advances in nutrition for years.  Join us for this free workshop!\n\n\n\nDate: June 22nd 2010\n\n\n\nTime: 7:00 P.M.\n\n\n\nPlace: Ravenswood Chiropractic & Wellness Center\n\n\n\n            5215 North Ravenswood\, Suite 105\n\n\n\n            Chicago\, IL 60640\n\n\n\n            www.RennWellness.com\n\n\n\n            (773) 878-7330\n\n\n\nBenefit from Dr. Renn?s comprehensive research and experience \n\nIf you?re like most athletes (weekend warriors or professional)\, you are curious about how you should be fueling your body and you may find it difficult to determine fads from facts.  Dr. Renn will strip away the hype and teach you how you can harness the power of healthy nutrition choices to achieve your best performance level.    Here are just some of the topics he will cover:\n\n\n\n·         Energy v Nourishment\n\n\n\n·         Bone and Muscle Health\n\n\n\n·         Injury Prevention\n\n\n\n·         Meal Planning During Training\n\n\n\n·         Supplementation Needs\n\n\n\n·         Body Composition\n\n\n\n·         Optimal Diet Requirements\n\n\n\n·         Healthy proteins\, fats\, and carbohydrates\n\n\n\n·         Hydration\n\n\n\nAt this workshop you?ll have an opportunity to find out your body composition and ask questions.\n\n\n\nIf you haven?t already done so\, please make your reservation now.  Seating is limited.\n\n\n\nRegister by visiting the events section of our website: www.RennWellness.com or call Nadia Hare at (773) 878-7330
X-ALT-DESC;FMTTYPE=text/html:Nutrition for the Female Athlete \n<br>Ravenswood Chiropractic &amp\; Wellness Center presents Dr. Todd Renn\, a Science-Based Nutrition expert who has been sharing the latest advances in nutrition for years.  Join us for this free workshop!\n<br>\n<br>Date: June 22nd 2010\n<br>\n<br>Time: 7:00 P.M.\n<br>\n<br>Place: Ravenswood Chiropractic &amp\; Wellness Center\n<br>\n<br>            5215 North Ravenswood\, Suite 105\n<br>\n<br>            Chicago\, IL 60640\n<br>\n<br>            www.RennWellness.com\n<br>\n<br>            (773) 878-7330\n<br>\n<br>Benefit from Dr. Renn?s comprehensive research and experience \n<br>If you?re like most athletes (weekend warriors or professional)\, you are curious about how you should be fueling your body and you may find it difficult to determine fads from facts.  Dr. Renn will strip away the hype and teach you how you can harness the power of healthy nutrition choices to achieve your best performance level.    Here are just some of the topics he will cover:\n<br>\n<br>·         Energy v Nourishment\n<br>\n<br>·         Bone and Muscle Health\n<br>\n<br>·         Injury Prevention\n<br>\n<br>·         Meal Planning During Training\n<br>\n<br>·         Supplementation Needs\n<br>\n<br>·         Body Composition\n<br>\n<br>·         Optimal Diet Requirements\n<br>\n<br>·         Healthy proteins\, fats\, and carbohydrates\n<br>\n<br>·         Hydration\n<br>\n<br>At this workshop you?ll have an opportunity to find out your body composition and ask questions.\n<br>\n<br>If you haven?t already done so\, please make your reservation now.  Seating is limited.\n<br>\n<br>Register by visiting the events section of our website: www.RennWellness.com or call Nadia Hare at (773) 878-7330\n<br>
LOCATION:Ravenswood Chiropractic & Wellness Center 5215 North Ravenswood\, Suite 105 Chicago\, IL 60640
UID:e.697.546
SEQUENCE:3
DTSTAMP:20260421T093448Z
URL:http://lincolnsquareravenswood.smartcms.site/events/details/nutrition-for-the-female-athlete-546
END:VEVENT

END:VCALENDAR
