BEGIN:VCALENDAR
VERSION:2.0
PRODID:-//ChamberMaster//Event Calendar 2.0//EN
METHOD:PUBLISH
X-PUBLISHED-TTL:P3D
REFRESH-INTERVAL:P3D
CALSCALE:GREGORIAN
BEGIN:VEVENT
DTSTART:20110605T230000Z
DTEND:20110606T020000Z
X-MICROSOFT-CDO-ALLDAYEVENT:FALSE
SUMMARY:Oistrach Symphony Orchestra Summer Concert
DESCRIPTION:Oistrach Symphony Orchestra\n\n	Summer Concert by Candlelight\n\n	 \n\n	Program includes works by Mozart\, Mendelssohn and Elgar\n\n	 \n\n	Sunday June 5\, 2011 at 6PM\n\n	Luther Memorial Church\n\n	2500 W. Wilson\n\n	Chicago\, Il 60625\n\n	 \n\n	Tickets on sale at Oistrachsymphony.org\n\n	Ticket Prices:  Adults $15\, Students/Seniors $10\, Family up to 5 $25
X-ALT-DESC;FMTTYPE=text/html:<div>\n	<strong>Oistrach Symphony Orchestra</strong></div>\n<div>\n	<strong>Summer Concert by Candlelight</strong></div>\n<div>\n	&nbsp\;</div>\n<div>\n	Program includes works by Mozart\, Mendelssohn and Elgar</div>\n<div>\n	&nbsp\;</div>\n<div>\n	Sunday June 5\, 2011 at 6PM</div>\n<div>\n	Luther Memorial Church</div>\n<div>\n	2500 W. Wilson</div>\n<div>\n	Chicago\, Il 60625</div>\n<div>\n	&nbsp\;</div>\n<div>\n	Tickets on sale at Oistrachsymphony.org</div>\n<div>\n	Ticket Prices:&nbsp\; Adults $15\, Students/Seniors $10\, Family up to 5 $25</div>\n
LOCATION:Luther Memorial Church 2500 W Wilson Ave
UID:e.697.866
SEQUENCE:3
DTSTAMP:20260420T142231Z
URL:http://lincolnsquareravenswood.smartcms.site/events/details/oistrach-symphony-orchestra-summer-concert-866
END:VEVENT

END:VCALENDAR
