BEGIN:VCALENDAR
VERSION:2.0
PRODID:-//ChamberMaster//Event Calendar 2.0//EN
METHOD:PUBLISH
X-PUBLISHED-TTL:P3D
REFRESH-INTERVAL:P3D
CALSCALE:GREGORIAN
BEGIN:VEVENT
DTSTART:20120324T193000Z
DTEND:20120324T223000Z
X-MICROSOFT-CDO-ALLDAYEVENT:FALSE
SUMMARY:Open House at Ravenswood Chiropractic & Wellness Center
DESCRIPTION:Join Us!\n\nOPEN HOUSE\n\nFeaturing the following presentations:\n\n"Family Nutrition" presented by Todd Renn\, DC\n\n"The Calm Spirit" presented by Tracie Hinton Chavez\, L.Ac\n\n"Happy Baby! An introduction to infant massage" by Colleen Holdener\, LMT\n\n\n\nThese presentations will be filled with useful information regarding healthy family nutrition and Chicago nutritional resources. Our goal is to teach you something new and be your source for Chicago nutritional education.\n\n\n\nThe workshops will focus on tips to bring your family together and benefit from good nutrition and family bonding techniques. There will be a question and answer session following each workshop where you'll be able to consult with the presenters.\n\n\n\nThe presentations are FREE. Pre-registration requested\, please call or visit our website at www.rennwellness.com\n\n\n\nWe'll see you there!\n\n\n\nRavenswood Chiropractic & Wellness Center\n\n5215 N Ravenswood\, Suite 105\n\n773.878.7330
X-ALT-DESC;FMTTYPE=text/html:Join Us!<br />\nOPEN HOUSE<br />\nFeaturing the following presentations:<br />\n&ldquo\;Family Nutrition&rdquo\; presented by Todd Renn\, DC<br />\n&ldquo\;The Calm Spirit&rdquo\; presented by Tracie Hinton Chavez\, L.Ac<br />\n&ldquo\;Happy Baby! An introduction to infant massage&rdquo\; by Colleen Holdener\, LMT<br />\n<br />\nThese presentations will be filled with useful information regarding healthy family nutrition and Chicago nutritional resources. Our goal is to teach you something new and be your source for Chicago nutritional education.<br />\n<br />\nThe workshops will focus on tips to bring your family together and benefit from good nutrition and family bonding techniques. There will be a question and answer session following each workshop where you&rsquo\;ll be able to consult with the presenters.<br />\n<br />\nThe presentations are FREE. Pre-registration requested\, please call or visit our website at www.rennwellness.com<br />\n<br />\nWe&rsquo\;ll see you there!<br />\n<br />\nRavenswood Chiropractic &amp\; Wellness Center<br />\n5215 N Ravenswood\, Suite 105<br />\n773.878.7330<br />\n
LOCATION:5215 N Ravenswood\, Suite 105
UID:e.697.2484
SEQUENCE:3
DTSTAMP:20260419T234319Z
URL:http://lincolnsquareravenswood.smartcms.site/events/details/open-house-at-ravenswood-chiropractic-wellness-center-2484
END:VEVENT

END:VCALENDAR
