BEGIN:VCALENDAR
VERSION:2.0
PRODID:-//ChamberMaster//Event Calendar 2.0//EN
METHOD:PUBLISH
X-PUBLISHED-TTL:P3D
REFRESH-INTERVAL:P3D
CALSCALE:GREGORIAN
BEGIN:VEVENT
DTSTART:20111029T000000Z
DTEND:20111029T030000Z
X-MICROSOFT-CDO-ALLDAYEVENT:FALSE
SUMMARY:Open Mic Night at Dolce Casa Cafe
DESCRIPTION:Start your Halloween weekend off right with Open MIc Night at Dolce Casa Cafe. You are not going to want to miss the show!\n\n	\n\n	Friday 7:00pm\n\n	Dolce Casa Cafe\n\n	BYOB
X-ALT-DESC;FMTTYPE=text/html:<p>\n	<span style="font-family: arial"><span style="font-size: 12px">Start your Halloween weekend off right with Open MIc Night at Dolce Casa Cafe. You are not going to want to miss the show!<br />\n	<br />\n	Friday 7:00pm<br />\n	Dolce Casa Cafe<br />\n	BYOB</span></span><span _fck_bookmark="1" style="display: none">&nbsp\;</span></p>\n
LOCATION:Dolce Casa Cafe 4947 North Damen Avenue
UID:e.697.2181
SEQUENCE:3
DTSTAMP:20260420T081523Z
URL:http://lincolnsquareravenswood.smartcms.site/events/details/open-mic-night-at-dolce-casa-cafe-2181
END:VEVENT

END:VCALENDAR
