BEGIN:VCALENDAR
VERSION:2.0
PRODID:-//ChamberMaster//Event Calendar 2.0//EN
METHOD:PUBLISH
X-PUBLISHED-TTL:P3D
REFRESH-INTERVAL:P3D
CALSCALE:GREGORIAN
BEGIN:VEVENT
DTSTART:20120514T233000Z
DTEND:20120515T013000Z
X-MICROSOFT-CDO-ALLDAYEVENT:FALSE
SUMMARY:Paint Q & A at Matty K's Hardware
DESCRIPTION:Paul Chesterman (our Valspar rep.) will be here taking your questions about paint and stain\, as well as offering professional advise for those about to undertake a project. Join us at Matty K's Hardware in the paint room Monday May 14th!!!
X-ALT-DESC;FMTTYPE=text/html:Paul Chesterman (our Valspar rep.) will be here taking your questions about paint and stain\, as well as offering professional advise for those about to undertake a project. Join us at Matty K&#39\;s Hardware in the paint room Monday May 14th!!!
LOCATION:Matty K's Hardware 4874 N. Lincoln
UID:e.697.2585
SEQUENCE:3
DTSTAMP:20260419T200804Z
URL:http://lincolnsquareravenswood.smartcms.site/events/details/paint-q-a-at-matty-k-s-hardware-2585
END:VEVENT

END:VCALENDAR
