BEGIN:VCALENDAR
VERSION:2.0
PRODID:-//ChamberMaster//Event Calendar 2.0//EN
METHOD:PUBLISH
X-PUBLISHED-TTL:P3D
REFRESH-INTERVAL:P3D
CALSCALE:GREGORIAN
BEGIN:VEVENT
DTSTART:20110326T140000Z
DTEND:20110326T170000Z
X-MICROSOFT-CDO-ALLDAYEVENT:FALSE
SUMMARY:Pilates Klasse
DESCRIPTION:Banish the Bratwurst bulge\, bring a mat! Every Saturday!\n\n\n\nFREE parking at MB Financial Bank at Western and Gunnison.
X-ALT-DESC;FMTTYPE=text/html:Banish the Bratwurst bulge\, bring a mat! Every Saturday!\n<br>\n<br>FREE parking at MB Financial Bank at Western and Gunnison.
LOCATION:DANK Haus 4740 N Western Ave Chicago IL 60625
UID:e.697.742
SEQUENCE:3
DTSTAMP:20260420T191018Z
URL:http://lincolnsquareravenswood.smartcms.site/events/details/pilates-klasse-742
END:VEVENT

END:VCALENDAR
