BEGIN:VCALENDAR
VERSION:2.0
PRODID:-//ChamberMaster//Event Calendar 2.0//EN
METHOD:PUBLISH
X-PUBLISHED-TTL:P3D
REFRESH-INTERVAL:P3D
CALSCALE:GREGORIAN
BEGIN:VEVENT
DTSTART:20111025T163000Z
DTEND:20111025T170000Z
X-MICROSOFT-CDO-ALLDAYEVENT:FALSE
SUMMARY:PlayMechanics at Pickle's Playroom
DESCRIPTION:Every Tuesday at 11:30\, our playroom floor is transformed into a stage.  PlayMechanics\, a local improv acting troupe\, performs folktales\, songs and suggestions from our audience.  This lively group of actors will surely make your day.  Their performances always change - you'll never see the same show twice!
X-ALT-DESC;FMTTYPE=text/html:Every Tuesday at 11:30\, our playroom floor is transformed into a stage. &nbsp\;PlayMechanics\, a local improv acting troupe\, performs folktales\, songs and suggestions from our audience. &nbsp\;This lively group of actors will surely make your day. &nbsp\;Their performances always change - you&#39\;ll never see the same show twice!
LOCATION:PIckle's Playroom
UID:e.697.1695
SEQUENCE:3
DTSTAMP:20260420T081817Z
URL:http://lincolnsquareravenswood.smartcms.site/events/details/playmechanics-at-pickles-playroom-10-25-2011-1695
END:VEVENT

END:VCALENDAR
